BEGIN:VCALENDAR
VERSION:2.0
PRODID:-//eventon.com NONSGML v1.0//EN
BEGIN:VEVENT
UID:69eb2790c2040
DTSTAMP:20260424T081928
DTSTART:20260718T190000Z
DTEND:20260726T230000Z
LOCATION:Winter Gardens 97 Church Street\,  FY1 1HL
SUMMARY:WORLD MATCHPLAY DARTS CHAMPIONSHIP
DESCRIPTION: World Matchplay Darts Championship at the famous Winter Gardens Empress Ballroom live (Sport) Saturday 18th till Sunday 26th July 2026 in Blackpool. The PDC World Darts Matchplay celebrates its 30th year at the amazing Winter Gardens in Blackpool and Sky Sports will be at the oche to show all live[..]
END:VEVENT
END:VCALENDAR